BEGIN:VCALENDAR
VERSION:2.0
PRODID:-//Centre for Cultural Value - ECPv6.15.20//NONSGML v1.0//EN
CALSCALE:GREGORIAN
METHOD:PUBLISH
X-WR-CALNAME:Centre for Cultural Value
X-ORIGINAL-URL:https://www.culturalvalue.org.uk
X-WR-CALDESC:Events for Centre for Cultural Value
REFRESH-INTERVAL;VALUE=DURATION:PT1H
X-Robots-Tag:noindex
X-PUBLISHED-TTL:PT1H
BEGIN:VTIMEZONE
TZID:UTC
BEGIN:STANDARD
TZOFFSETFROM:+0000
TZOFFSETTO:+0000
TZNAME:UTC
DTSTART:20220101T000000
END:STANDARD
END:VTIMEZONE
BEGIN:VEVENT
DTSTART;TZID=UTC:20231019T140000
DTEND;TZID=UTC:20231019T153000
DTSTAMP:20260421T005241
CREATED:20230904T105419Z
LAST-MODIFIED:20231023T114202Z
UID:7769-1697724000-1697729400@www.culturalvalue.org.uk
SUMMARY:Evaluation for Arts\, Culture and Heritage: A Reflective Workshop
DESCRIPTION:[vc_row][vc_column][vc_btn title=”Book workshop” style=”outline-custom” outline_custom_color=”#0a0a0a” outline_custom_hover_background=”#0a0a0a” outline_custom_hover_text=”#ffffff” link=”url:https%3A%2F%2Fwww.ticketsource.co.uk%2Fcentre-for-cultural-value%2Fevaluation-for-arts-culture-and-heritage-a-reflective-workshop%2Fe-qpdzza”][vc_column_text] \nThis workshop is for everyone taking part in our new online course\, Evaluation for Arts\, Culture and Heritage: Principles and Practice. \nWe’ll be launching our self-guided course\, which helps participants build skills and confidence in evaluation\, on 18 September 2023. If you’re taking the course\, this follow-up workshop is a chance to talk to course leaders about what you’ve learned – and connect with other learners. \nWe’ll be talking about why we put the course together – and the reasons we chose to focus on these specific areas of evaluation. Our course leaders will also reflect on how you can make practical use of what you’ve learned. \nChaired by Centre for Cultural Value director Ben Walmsley\, co-director Anne Torregiani and Research Associate Emma McDowell\, we’ll be taking a look at some of the questions we’ve been exploring on the course\, including: \n\nHow can we identify what to measure in evaluation?\nHow can we use evaluation as a learning experience?\nHow can we approach failure positively and constructively?\nHow can we be creative in evaluation?\n\nWe’ll be inviting you to ask questions\, share your own insights on evaluation\, and reflect on what areas of evaluation you think need the most attention.\n\nThere’ll also be the chance to share your experiences of evaluation with your peers and connect with our evaluation network.[/vc_column_text][/vc_column][/vc_row][vc_row][vc_column][vc_separator color=”orange” border_width=”2″][/vc_column][/vc_row][vc_row][vc_column width=”1/2″][vc_column_text] \nWhat is Evaluation for Arts\, Culture and Heritage: Principles and Practice?\nOn 18 September 2023\, we’re launching our self-guided course\, ‘Evaluation for Arts\, Culture and Heritage: Principles and Practice’. \nThis course offers the opportunity to hear from experts\, develop new approaches and build your evaluation skills and confidence.  \nThe course is split into six content modules and hosted by leaders in cultural evaluation. You can access the course for free over a flexible period of time.[/vc_column_text][vc_btn title=”Find out more about the course” style=”outline-custom” outline_custom_color=”#0a0a0a” outline_custom_hover_background=”#0a0a0a” outline_custom_hover_text=”#ffffff” link=”url:https%3A%2F%2Fwww.culturalvalue.org.uk%2Fevaluation-arts-culture-heritage-online-course%2F”][/vc_column][vc_column width=”1/2″][vc_single_image image=”7066″ img_size=”large”][/vc_column][/vc_row][vc_row][vc_column][vc_separator color=”orange” border_width=”2″][/vc_column][/vc_row][vc_row][vc_column][vc_column_text] \nWho is this event for?\nThis event is open to anyone participating in our new online course\, Evaluation for Arts\, Culture and Heritage: Principles and Practice. \nWe’ll be reflecting on the material studied in the course and welcome anyone who has completed the course to join the workshop.  \nYou are also welcome to join us for this workshop if you’re currently registered for the course and working your way through the material. [/vc_column_text][/vc_column][/vc_row][vc_row][vc_column][vc_separator color=”orange” border_width=”2″][/vc_column][/vc_row][vc_row][vc_column][vc_column_text] \nAccessibility\nIf you do not receive a Zoom link directly from TicketSource\, please email us at ccv@leeds.ac.uk. \nWe want to make the event a positive experience for all participants. If you have particular access needs please let us know in advance by emailing ccv@leeds.ac.uk. \nLive transcription by a palantypist (speech-to-text reporter) is provided for this session. Transcription will be available on Zoom captions and StreamText.net. \nThe session takes place on Zoom. Read Zoom’s accessibility FAQs here. \nPlease note that we will be recording this event. Only speakers will be recorded.[/vc_column_text][/vc_column][/vc_row]
URL:https://www.culturalvalue.org.uk/event/evaluation-for-arts-culture-and-heritage-a-reflective-workshop/
LOCATION:Online
CATEGORIES:Archive,Online
ATTACH;FMTTYPE=image/jpeg:https://www.culturalvalue.org.uk/wp-content/uploads/2023/06/Audience-in-Brotherton-Gallery.jpg
END:VEVENT
END:VCALENDAR