BEGIN:VCALENDAR
VERSION:2.0
PRODID:-//Centre for Cultural Value - ECPv6.15.20//NONSGML v1.0//EN
CALSCALE:GREGORIAN
METHOD:PUBLISH
X-ORIGINAL-URL:https://www.culturalvalue.org.uk
X-WR-CALDESC:Events for Centre for Cultural Value
REFRESH-INTERVAL;VALUE=DURATION:PT1H
X-Robots-Tag:noindex
X-PUBLISHED-TTL:PT1H
BEGIN:VTIMEZONE
TZID:UTC
BEGIN:STANDARD
TZOFFSETFROM:+0000
TZOFFSETTO:+0000
TZNAME:UTC
DTSTART:20210101T000000
END:STANDARD
END:VTIMEZONE
BEGIN:VEVENT
DTSTART;TZID=UTC:20220914T140000
DTEND;TZID=UTC:20220914T160000
DTSTAMP:20260421T231930
CREATED:20220808T093347Z
LAST-MODIFIED:20220920T145455Z
UID:4579-1663164000-1663171200@www.culturalvalue.org.uk
SUMMARY:Social Role of the Artist: a research workshop
DESCRIPTION:[vc_row][vc_column][vc_column_text] \nHave your say about our next research topic: the social role of the artist.  \nThe Centre for Cultural Value conducts regular research reviews – a rapid assessment of published literature to present a ‘snapshot’ of the research across a topic. We share these summary findings in an accessible digest\, so it can usefully shape future practice and policy.  \nOur next review will focus on the social role of the artist. Join us to set our agenda and help shape future cultural policy that best supports artists.  \n  \nWhat is the role of the artist in society\, and how do we capture their social value?  \nThe artist’s role in society has long been a topic of debate. Over the last decade\, in the face of large global challenges\, these conversations have become more relevant than ever. This is especially the case as artists adapt their practice to respond to social\, environmental and political issues.  \nBut how do we understand what role artists play in society?  \nThis interactive workshop will refine the scope of our next research review so it’s as useful and relevant as possible to artists\, cultural practitioners\, voluntary and community groups\, arts organisations\, institutions and those who fund cultural activity and develop cultural policy.  \nOur research review will examine the evidence base surrounding the social role of the artist. It will explore artists working within communities\, artists’ role in relation to place\, socially engaged practice and artists’ livelihoods. The themes within this will be shaped and refined with your input.  \nThe workshop will focus on present-day society\, so historical research into the social role of the artist is out of scope.  \n  \nShaping our research topic – where should we focus?  \nThe workshop will be facilitated by Chuck Lowry who specialises in art as social practice. We’ll also be welcoming four guest contributors currently working in this field: Kerry Harker\, Susan Jones\, Eleonora Belfiore and Jacob Thompson-Bell.  \nWe’ll start by introducing the initial scoping we have done in this area. Then we’ll work together as a group to define the questions and sub-topics you would find most useful for us to include in the research review.  \n  \nWho’s this workshop for?  \nYou’ll be working as an artist\, cultural practitioner or curators\, with experience or interest in socially engaged practice. Or you might be a researcher or policymaker with a specific interest in this area.  \nThe workshop has a limited number of spaces which are prioritised for people working in this area. On this occasion\, our event isn’t suitable for students.  \n  \nWhat will the resulting research review look like?  \nHere’s an example of a research review into everyday creativity.  \n  \nCan I contribute to shaping the review in an alternative way?  \nIf you would like to shape our review but cannot attend the event\, or you can attend but would also like to contribute some ideas in writing\, please complete this short form.   \n  \n[/vc_column_text][/vc_column][/vc_row]
URL:https://www.culturalvalue.org.uk/event/social-role-of-the-artist-a-research-workshop/
LOCATION:Online
CATEGORIES:Archive,Online
ATTACH;FMTTYPE=image/png:https://www.culturalvalue.org.uk/wp-content/uploads/2022/08/Strand-images-2.png
END:VEVENT
END:VCALENDAR