BEGIN:VCALENDAR
VERSION:2.0
PRODID:-//Centre for Cultural Value - ECPv6.15.20//NONSGML v1.0//EN
CALSCALE:GREGORIAN
METHOD:PUBLISH
X-WR-CALNAME:Centre for Cultural Value
X-ORIGINAL-URL:https://www.culturalvalue.org.uk
X-WR-CALDESC:Events for Centre for Cultural Value
REFRESH-INTERVAL;VALUE=DURATION:PT1H
X-Robots-Tag:noindex
X-PUBLISHED-TTL:PT1H
BEGIN:VTIMEZONE
TZID:UTC
BEGIN:STANDARD
TZOFFSETFROM:+0000
TZOFFSETTO:+0000
TZNAME:UTC
DTSTART:20210101T000000
END:STANDARD
END:VTIMEZONE
BEGIN:VEVENT
DTSTART;TZID=UTC:20221005T140000
DTEND;TZID=UTC:20221005T153000
DTSTAMP:20260421T213024
CREATED:20220912T101455Z
LAST-MODIFIED:20221208T161156Z
UID:4799-1664978400-1664983800@www.culturalvalue.org.uk
SUMMARY:Collaborate - a chance to find out more
DESCRIPTION:[vc_row][vc_column][vc_column_text][vc_row][vc_column width=”1/1″][vc_column_text] \nFind out more about our Collaborate\nfund and how it can benefit you as an\nindividual practitioner or cultural sector organisation.\nBook: Workshop 1                                             Book: Workshop 2 \nBefore signing up to these workshops\, please make sure you are eligible to apply to the Collaborate fund. \nIf you are an individual practitioner or part of a cultural sector organisation within the UK considering applying to our Collaborate fund\, then these workshops are for you.  \nPlease note these events aren’t suitable for academic and commercial researchers\, students or international guests. We will run separate briefing workshops for academics in early 2023.  \nJoin us to find out about our fund to support the development of new collaborative research projects between the cultural sector and academic researchers. \nSuccessful projects will contribute to deeper understanding of the differences culture makes to people’s lives and to the range of research methodologies used to explore cultural value. \nThese two events will provide more information about the fund\, as well as help you to think about the research project you might like to explore. We will also guide you through the application process\, before expressions of interest open on Monday 17 October 2022. \nEvent outcomes \nIn the event\, you will: \n\nHear more about what the Collaborate fund is\nFind out how to apply and what the application process and timescales are\nHave the opportunity to ask questions\, think about your ideas for your research project and share thoughts with other practitioners\nLeave with the insights you need to submit the best possible Expression of Interest.\n\nYou may want to take a look at our Collaborate resources before here. \nWhat are the benefits of taking part in Collaborate? \nCollaborate will give cultural sector practitioners the opportunity to explore and more deeply understand your practice and to communicate the cultural value of your work more effectively. Working in partnership with academic researchers can also help to open up new ways of thinking\, develop innovative ideas and practice and build new networks. \nAccessibility \nWe want to make the event a positive experience for all participants. If you have particular access needs please let us know in advance at ccv@leeds.ac.uk \nLive transcription by a palantypist (speech to text reporter) is provided for this session. Transcription will be available on Zoom captions\, and on StreamText.net. \nThe session takes place on Zoom. Read Zoom’s accessibility FAQs here.[/vc_column_text][/vc_column][/vc_row]
URL:https://www.culturalvalue.org.uk/event/collaborate-a-chance-to-find-out-more-cultural-sector/
LOCATION:Online
CATEGORIES:Archive,Online
ATTACH;FMTTYPE=image/jpeg:https://www.culturalvalue.org.uk/wp-content/uploads/2022/09/Collaborate-Website-Header-5-and-12-October.jpg
END:VEVENT
END:VCALENDAR